BEGIN:VCALENDAR
VERSION:2.0
PRODID:-//81.169.145.149//NONSGML kigkonsult.se iCalcreator 2.20//
CALSCALE:GREGORIAN
METHOD:PUBLISH
X-WR-TIMEZONE:UTC
BEGIN:VEVENT
UID:event22@BSG Datteln Hagem
DTSTAMP:20260419T151541Z
CATEGORIES:BSG Datteln Hagem
DESCRIPTION:Osterfeuer\nKategorie: BSG Datteln Hagem\nICS-Link: https://www
 .bsg-datteln-hagem.de/index.php?option=com_jem&view=event&id=22:osterfeuer
 \n
DTSTART:20250420T180000Z
DTEND:20250420T180000Z
LOCATION:Hof Rusche\,Hachhausener Str. 191\,45711 Datteln
SUMMARY:Osterfeuer
URL:https://www.bsg-datteln-hagem.de/index.php?option=com_jem&view=event&id
 =22:osterfeuer
END:VEVENT
END:VCALENDAR