BEGIN:VCALENDAR
VERSION:2.0
PRODID:-//81.169.145.149//NONSGML kigkonsult.se iCalcreator 2.20//
CALSCALE:GREGORIAN
METHOD:PUBLISH
X-WR-TIMEZONE:UTC
BEGIN:VEVENT
UID:event21@BSG Datteln Hagem
DTSTAMP:20260421T090330Z
CATEGORIES:BSG Datteln Hagem
DESCRIPTION:Generalversammlung\nKategorie: BSG Datteln Hagem\nICS-Link: htt
 ps://www.bsg-datteln-hagem.de/index.php?option=com_jem&view=event&id=21:ge
 neralversammlung\n
DTSTART;VALUE=DATE:20250222
DTEND;VALUE=DATE:20250223
SUMMARY:Generalversammlung
URL:https://www.bsg-datteln-hagem.de/index.php?option=com_jem&view=event&id
 =21:generalversammlung
END:VEVENT
END:VCALENDAR