BEGIN:VCALENDAR
VERSION:2.0
PRODID:-//81.169.145.149//NONSGML kigkonsult.se iCalcreator 2.20//
CALSCALE:GREGORIAN
METHOD:PUBLISH
X-WR-TIMEZONE:UTC
BEGIN:VEVENT
UID:event19@BSG Datteln Hagem
DTSTAMP:20260425T191344Z
CATEGORIES:BSG Datteln Hagem
DESCRIPTION:Weihnachtsbaumverkauf\nKategorie: BSG Datteln Hagem\nICS-Link: 
 https://www.bsg-datteln-hagem.de/index.php?option=com_jem&view=event&id=19
 :weihnachtsbaumverkauf\n
DTSTART:20241214T140000Z
DTEND:20241214T140000Z
LOCATION:Beim Pio\,Heideweg 54\,45711 Datteln
SUMMARY:Weihnachtsbaumverkauf
URL:https://www.bsg-datteln-hagem.de/index.php?option=com_jem&view=event&id
 =19:weihnachtsbaumverkauf
END:VEVENT
END:VCALENDAR